Workbook

Sheet Read me
A1: Turning Excel Into a CRM: sample workbook
A3: This is a small sample of the workbook described in the case study. It keeps the real sheet structure and the real formulas.
A4: All of the data is made up: companies, people, IDs, profile links, sources and counts. It is not a real contact database.
A6: Database: 450 sample rows. Column O cleans the company name with one array formula that reads the Keywords sheet.
A7: Summary: SUMIFS counts of active and inactive leads by source and year. It recalculates from the Database sheet.
A8: Keywords: the legal suffixes the cleanup formula looks for. Add a row to teach it a new one.
A9: Task: the daily tracking sheet, with illustrative counts.

Sheet Database
A1: Trace ID | B1: Company Name | C1: Country | D1: Industry | E1: Employee Size | F1: Contact Status | G1: DB Origin | H1: Lead Date | I1: Year Created | J1: Job Level | K1: Designation | L1: First Name | M1: Last Name | N1: LinkedIn Profile | O1: Cleaned Company Name | P1: Active | Q1: Inactive
A2: LEAD0000016 | B2: Summit Enterprises Ltd | C2: Australia | D2: Construction / Property / Real Estate | E2: 1,000 and above | F2: Inactive | G2: Operations CRM | H2: - | I2: - | J2: Managerial | K2: Chief Information Officer | L2: Siti | M2: Chong | N2: - | O2: {=TRIM(LEFT(B2,MIN(IFERROR(FIND(Keywords!$A$1:$A$40,B2),LEN(B2)+1))-1))} | P2: =IF(F2="Active",1,0) | Q2: =IF(F2="Inactive",1,0)
A3: LEAD0000126 | B3: Vertex Enterprises Inc | C3: Indonesia | D3: Manufacturing | E3: 1,000 and above | F3: Active | G3: Operations CRM | H3: 45491 | I3: =YEAR(H3) | J3: Individual Contributor | K3: General Manager | L3: Mei | M3: Rahman | N3: - | O3: {=TRIM(LEFT(B3,MIN(IFERROR(FIND(Keywords!$A$1:$A$40,B3),LEN(B3)+1))-1))} | P3: =IF(F3="Active",1,0) | Q3: =IF(F3="Inactive",1,0)
A4: LEAD0000258 | B4: Apex Ventures Sdn Bhd | C4: Indonesia | D4: Banking / Finance / Insurance / Investment | E4: 1,000 and above | F4: Active | G4: Operations CRM | H4: - | I4: - | J4: C-Level | K4: Marketing Director | L4: Andi | M4: Chong | N4: - | O4: {=TRIM(LEFT(B4,MIN(IFERROR(FIND(Keywords!$A$1:$A$40,B4),LEN(B4)+1))-1))} | P4: =IF(F4="Active",1,0) | Q4: =IF(F4="Inactive",1,0)
A5: LEAD0000269 | B5: Meridian Solutions Sdn Bhd | C5: Malaysia | D5: Banking / Finance / Insurance / Investment | E5: 1,000 and above | F5: Inactive | G5: Operations CRM | H5: - | I5: - | J5: C-Level | K5: Operations Director | L5: Mei | M5: Kumar | N5: - | O5: {=TRIM(LEFT(B5,MIN(IFERROR(FIND(Keywords!$A$1:$A$40,B5),LEN(B5)+1))-1))} | P5: =IF(F5="Active",1,0) | Q5: =IF(F5="Inactive",1,0)
A6: LEAD0000791 | B6: Summit Solutions Sdn Bhd | C6: Singapore | D6: Utilities (Gas/Water/Electricity/Oil) | E6: 500-999 | F6: Active | G6: Operations CRM | H6: 45853 | I6: =YEAR(H6) | J6: Managerial | K6: Compliance Officer | L6: Aisha | M6: Bautista | N6: - | O6: {=TRIM(LEFT(B6,MIN(IFERROR(FIND(Keywords!$A$1:$A$40,B6),LEN(B6)+1))-1))} | P6: =IF(F6="Active",1,0) | Q6: =IF(F6="Inactive",1,0)
A7: LEAD0000934 | B7: Maple Technologies Co Ltd | C7: Singapore | D7: Travel / Hotels / Hospitality / Food and Beverage | E7: 500-999 | F7: Active | G7: Operations CRM | H7: 45826 | I7: =YEAR(H7) | J7: Individual Contributor | K7: VP of Technology | L7: Mary | M7: Murphy | N7: https://example.com/in/mary-murphy-1ffc154e | O7: {=TRIM(LEFT(B7,MIN(IFERROR(FIND(Keywords!$A$1:$A$40,B7),LEN(B7)+1))-1))} | P7: =IF(F7="Active",1,0) | Q7: =IF(F7="Inactive",1,0)
A8: LEAD0001186 | B8: Vertex Ventures Ltd | C8: Thailand | D8: Manufacturing | E8: 1,000 and above | F8: Active | G8: Operations CRM | H8: - | I8: - | J8: Managerial | K8: Account Manager | L8: Elena | M8: Karim | N8: - | O8: {=TRIM(LEFT(B8,MIN(IFERROR(FIND(Keywords!$A$1:$A$40,B8),LEN(B8)+1))-1))} | P8: =IF(F8="Active",1,0) | Q8: =IF(F8="Inactive",1,0)
A9: LEAD0001226 | B9: Northgate Ventures Ltd | C9: Indonesia | D9: Non-Profit Organization | E9: 1,000 and above | F9: Active | G9: Operations CRM | H9: 45253.438 | I9: =YEAR(H9) | J9: Managerial | K9: Finance Manager | L9: Kenji | M9: Mendoza | N9: - | O9: {=TRIM(LEFT(B9,MIN(IFERROR(FIND(Keywords!$A$1:$A$40,B9),LEN(B9)+1))-1))} | P9: =IF(F9="Active",1,0) | Q9: =IF(F9="Inactive",1,0)
A10: LEAD0001277 | B10: Apex Industries Pte Ltd | C10: Singapore | D10: Construction / Property / Real Estate | E10: 1,000 and above | F10: Active | G10: Operations CRM | H10: 45586 | I10: =YEAR(H10) | J10: Managerial | K10: Account Manager | L10: Chloe | M10: Lee | N10: https://example.com/in/chloe-lee-dbeed787 | O10: {=TRIM(LEFT(B10,MIN(IFERROR(FIND(Keywords!$A$1:$A$40,B10),LEN(B10)+1))-1))} | P10: =IF(F10="Active",1,0) | Q10: =IF(F10="Inactive",1,0)
A11: LEAD0001403 | B11: Vertex Dynamics Sdn Bhd | C11: Indonesia | D11: Retail / Wholesale / Import & Export / Automotive | E11: 250-499 | F11: Active | G11: Operations CRM | H11: 45649 | I11: =YEAR(H11) | J11: Managerial | K11: Account Manager | L11: Nguyen | M11: Gomez | N11: - | O11: {=TRIM(LEFT(B11,MIN(IFERROR(FIND(Keywords!$A$1:$A$40,B11),LEN(B11)+1))-1))} | P11: =IF(F11="Active",1,0) | Q11: =IF(F11="Inactive",1,0)
A12: LEAD0001479 | B12: Crescent Dynamics Pte Ltd | C12: Indonesia | D12: Retail / Wholesale / Import & Export / Automotive | E12: 500-999 | F12: Inactive | G12: Operations CRM | H12: - | I12: - | J12: Managerial | K12: Account Manager | L12: Carlos | M12: Chen | N12: - | O12: {=TRIM(LEFT(B12,MIN(IFERROR(FIND(Keywords!$A$1:$A$40,B12),LEN(B12)+1))-1))} | P12: =IF(F12="Active",1,0) | Q12: =IF(F12="Inactive",1,0)
A13: LEAD0001514 | B13: Maple Logistics Corp | C13: India | D13: Banking / Finance / Insurance / Investment | E13: 500-999 | F13: Active | G13: Operations CRM | H13: - | I13: - | J13: Managerial | K13: Senior Engineer | L13: Tom | M13: Wong | N13: - | O13: {=TRIM(LEFT(B13,MIN(IFERROR(FIND(Keywords!$A$1:$A$40,B13),LEN(B13)+1))-1))} | P13: =IF(F13="Active",1,0) | Q13: =IF(F13="Inactive",1,0)
A14: LEAD0001672 | B14: Nova Logistics Sdn Bhd | C14: Malaysia | D14: Banking / Finance / Insurance / Investment | E14: 1,000 and above | F14: Active | G14: Operations CRM | H14: 45629 | I14: =YEAR(H14) | J14: Managerial | K14: Account Manager | L14: Dewi | M14: Yamada | N14: - | O14: {=TRIM(LEFT(B14,MIN(IFERROR(FIND(Keywords!$A$1:$A$40,B14),LEN(B14)+1))-1))} | P14: =IF(F14="Active",1,0) | Q14: =IF(F14="Inactive",1,0)
A15: LEAD0001773 | B15: Keystone Logistics Sdn Bhd | C15: Malaysia | D15: Education | E15: 1,000 and above | F15: Active | G15: Operations CRM | H15: 45188 | I15: =YEAR(H15) | J15: Managerial | K15: Account Manager | L15: Chloe | M15: Murphy | N15: - | O15: {=TRIM(LEFT(B15,MIN(IFERROR(FIND(Keywords!$A$1:$A$40,B15),LEN(B15)+1))-1))} | P15: =IF(F15="Active",1,0) | Q15: =IF(F15="Inactive",1,0)
A16: LEAD0001806 | B16: Summit Dynamics Inc | C16: Philippines | D16: Transportation (Airline/Rail/Shipping/Logistics) | E16: 500-999 | F16: Active | G16: Operations CRM | H16: 45314 | I16: =YEAR(H16) | J16: C-Level | K16: Technical Lead | L16: Sam | M16: Ibrahim | N16: - | O16: {=TRIM(LEFT(B16,MIN(IFERROR(FIND(Keywords!$A$1:$A$40,B16),LEN(B16)+1))-1))} | P16: =IF(F16="Active",1,0) | Q16: =IF(F16="Inactive",1,0)
A17: LEAD0001827 | B17: Redwood Enterprises Sdn Bhd | C17: Indonesia | D17: Banking / Finance / Insurance / Investment | E17: 1,000 and above | F17: Active | G17: Operations CRM | H17: - | I17: - | J17: Managerial | K17: Country Manager | L17: Arjun | M17: Karim | N17: - | O17: {=TRIM(LEFT(B17,MIN(IFERROR(FIND(Keywords!$A$1:$A$40,B17),LEN(B17)+1))-1))} | P17: =IF(F17="Active",1,0) | Q17: =IF(F17="Inactive",1,0)
A18: LEAD0001831 | B18: Horizon Partners Corp | C18: Malaysia | D18: Education | E18: 1,000 and above | F18: Active | G18: Operations CRM | H18: 45051 | I18: =YEAR(H18) | J18: Managerial | K18: Account Manager | L18: Farah | M18: Chen | N18: - | O18: {=TRIM(LEFT(B18,MIN(IFERROR(FIND(Keywords!$A$1:$A$40,B18),LEN(B18)+1))-1))} | P18: =IF(F18="Active",1,0) | Q18: =IF(F18="Inactive",1,0)
A19: LEAD0001835 | B19: Prime Solutions Berhad | C19: Singapore | D19: Media / Entertainment | E19: 1,000 and above | F19: Active | G19: Operations CRM | H19: - | I19: - | J19: Managerial | K19: IT Executive | L19: Priya | M19: Bautista | N19: - | O19: {=TRIM(LEFT(B19,MIN(IFERROR(FIND(Keywords!$A$1:$A$40,B19),LEN(B19)+1))-1))} | P19: =IF(F19="Active",1,0) | Q19: =IF(F19="Inactive",1,0)
A20: LEAD0001900 | B20: Redwood Global Co Ltd | C20: Philippines | D20: Government / Public Services / Military | E20: 1,000 and above | F20: Inactive | G20: Operations CRM | H20: 45005 | I20: =YEAR(H20) | J20: Director | K20: Technical Lead | L20: Somchai | M20: Osman | N20: - | O20: {=TRIM(LEFT(B20,MIN(IFERROR(FIND(Keywords!$A$1:$A$40,B20),LEN(B20)+1))-1))} | P20: =IF(F20="Active",1,0) | Q20: =IF(F20="Inactive",1,0)
A21: LEAD0002458 | B21: Orion Logistics Inc | C21: Indonesia | D21: IT / Computing / Internet / Networking | E21: 250-499 | F21: Active | G21: Operations CRM | H21: 45483 | I21: =YEAR(H21) | J21: Director | K21: Operations Director | L21: Andi | M21: Nguyen | N21: - | O21: {=TRIM(LEFT(B21,MIN(IFERROR(FIND(Keywords!$A$1:$A$40,B21),LEN(B21)+1))-1))} | P21: =IF(F21="Active",1,0) | Q21: =IF(F21="Inactive",1,0)
A22: LEAD0002570 | B22: Prime Networks Pte Ltd | C22: Thailand | D22: Manufacturing | E22: 250-499 | F22: Active | G22: Operations CRM | H22: - | I22: - | J22: Managerial | K22: Account Manager | L22: Mary | M22: Karim | N22: - | O22: {=TRIM(LEFT(B22,MIN(IFERROR(FIND(Keywords!$A$1:$A$40,B22),LEN(B22)+1))-1))} | P22: =IF(F22="Active",1,0) | Q22: =IF(F22="Inactive",1,0)
A23: LEAD0002595 | B23: Oakridge Global Co Ltd | C23: Indonesia | D23: Transportation (Airline/Rail/Shipping/Logistics) | E23: 1,000 and above | F23: Active | G23: Operations CRM | H23: - | I23: - | J23: Managerial | K23: Regional Sales Manager | L23: Ravi | M23: - | N23: - | O23: {=TRIM(LEFT(B23,MIN(IFERROR(FIND(Keywords!$A$1:$A$40,B23),LEN(B23)+1))-1))} | P23: =IF(F23="Active",1,0) | Q23: =IF(F23="Inactive",1,0)
A24: LEAD0002766 | B24: Vertex Technologies Ltd | C24: Singapore | D24: Healthcare | E24: 500-999 | F24: Active | G24: Operations CRM | H24: 45792 | I24: =YEAR(H24) | J24: Director | K24: Technical Lead | L24: Ana | M24: Tan | N24: https://example.com/in/ana-tan-958b60c0 | O24: {=TRIM(LEFT(B24,MIN(IFERROR(FIND(Keywords!$A$1:$A$40,B24),LEN(B24)+1))-1))} | P24: =IF(F24="Active",1,0) | Q24: =IF(F24="Inactive",1,0)
A25: LEAD0003053 | B25: Meridian Technologies Sdn Bhd | C25: Malaysia | D25: Telecommunications | E25: 1,000 and above | F25: Active | G25: Operations CRM | H25: - | I25: - | J25: Managerial | K25: Account Manager | L25: Mei | M25: Lee | N25: - | O25: {=TRIM(LEFT(B25,MIN(IFERROR(FIND(Keywords!$A$1:$A$40,B25),LEN(B25)+1))-1))} | P25: =IF(F25="Active",1,0) | Q25: =IF(F25="Inactive",1,0)
A26: LEAD0003165 | B26: Falcon Dynamics Co Ltd | C26: Indonesia | D26: Banking / Finance / Insurance / Investment | E26: 500-999 | F26: Active | G26: Operations CRM | H26: - | I26: - | J26: Managerial | K26: Chief Information Officer | L26: Budi | M26: Gomez | N26: - | O26: {=TRIM(LEFT(B26,MIN(IFERROR(FIND(Keywords!$A$1:$A$40,B26),LEN(B26)+1))-1))} | P26: =IF(F26="Active",1,0) | Q26: =IF(F26="Inactive",1,0)
A27: LEAD0003250 | B27: Meridian Systems Berhad | C27: Singapore | D27: Transportation (Airline/Rail/Shipping/Logistics) | E27: 1,000 and above | F27: Inactive | G27: Operations CRM | H27: 45482 | I27: =YEAR(H27) | J27: Managerial | K27: HR Manager | L27: Ryan | M27: Nguyen | N27: - | O27: {=TRIM(LEFT(B27,MIN(IFERROR(FIND(Keywords!$A$1:$A$40,B27),LEN(B27)+1))-1))} | P27: =IF(F27="Active",1,0) | Q27: =IF(F27="Inactive",1,0)
A28: LEAD0003446 | B28: Granite Enterprises Ltd | C28: Hong Kong | D28: Telecommunications | E28: 1,000 and above | F28: Inactive | G28: Operations CRM | H28: - | I28: - | J28: Managerial | K28: Project Manager | L28: Mai | M28: Lim | N28: - | O28: {=TRIM(LEFT(B28,MIN(IFERROR(FIND(Keywords!$A$1:$A$40,B28),LEN(B28)+1))-1))} | P28: =IF(F28="Active",1,0) | Q28: =IF(F28="Inactive",1,0)
A29: LEAD0003539 | B29: Vertex Networks Corp | C29: Singapore | D29: Media / Entertainment | E29: 1,000 and above | F29: Inactive | G29: Operations CRM | H29: - | I29: - | J29: Managerial | K29: Account Manager | L29: Somchai | M29: Widodo | N29: - | O29: {=TRIM(LEFT(B29,MIN(IFERROR(FIND(Keywords!$A$1:$A$40,B29),LEN(B29)+1))-1))} | P29: =IF(F29="Active",1,0) | Q29: =IF(F29="Inactive",1,0)
A30: LEAD0003724 | B30: Union Dynamics Berhad | C30: Singapore | D30: Business / Professional Services / Consultancies | E30: 500-999 | F30: Active | G30: Operations CRM | H30: - | I30: - | J30: Managerial | K30: Account Manager | L30: Kenji | M30: Murphy | N30: - | O30: {=TRIM(LEFT(B30,MIN(IFERROR(FIND(Keywords!$A$1:$A$40,B30),LEN(B30)+1))-1))} | P30: =IF(F30="Active",1,0) | Q30: =IF(F30="Inactive",1,0)
A31: LEAD0003802 | B31: Granite Enterprises Pte Ltd | C31: Singapore | D31: Transportation (Airline/Rail/Shipping/Logistics) | E31: 1,000 and above | F31: Active | G31: Operations CRM | H31: - | I31: - | J31: Managerial | K31: Account Manager | L31: Sophia | M31: Tan | N31: - | O31: {=TRIM(LEFT(B31,MIN(IFERROR(FIND(Keywords!$A$1:$A$40,B31),LEN(B31)+1))-1))} | P31: =IF(F31="Active",1,0) | Q31: =IF(F31="Inactive",1,0)
A32: LEAD0003864 | B32: Apex Logistics Berhad | C32: Singapore | D32: Manufacturing | E32: 1,000 and above | F32: Inactive | G32: Operations CRM | H32: 44740.49 | I32: =YEAR(H32) | J32: Managerial | K32: Account Manager | L32: Carlos | M32: Lee | N32: - | O32: {=TRIM(LEFT(B32,MIN(IFERROR(FIND(Keywords!$A$1:$A$40,B32),LEN(B32)+1))-1))} | P32: =IF(F32="Active",1,0) | Q32: =IF(F32="Inactive",1,0)
A33: LEAD0003874 | B33: Northgate Networks Co Ltd | C33: Philippines | D33: Banking / Finance / Insurance / Investment | E33: 1,000 and above | F33: Active | G33: Operations CRM | H33: - | I33: - | J33: Individual Contributor | K33: Supply Chain Manager | L33: Arjun | M33: Kim | N33: - | O33: {=TRIM(LEFT(B33,MIN(IFERROR(FIND(Keywords!$A$1:$A$40,B33),LEN(B33)+1))-1))} | P33: =IF(F33="Active",1,0) | Q33: =IF(F33="Inactive",1,0)
A34: LEAD0003907 | B34: Apex Industries Corp | C34: Singapore | D34: Government / Public Services / Military | E34: 1,000 and above | F34: Inactive | G34: Operations CRM | H34: - | I34: - | J34: Director | K34: Compliance Officer | L34: Mary | M34: Lim | N34: - | O34: {=TRIM(LEFT(B34,MIN(IFERROR(FIND(Keywords!$A$1:$A$40,B34),LEN(B34)+1))-1))} | P34: =IF(F34="Active",1,0) | Q34: =IF(F34="Inactive",1,0)
A35: LEAD0003977 | B35: Cascade Industries Co Ltd | C35: Singapore | D35: Banking / Finance / Insurance / Investment | E35: 1,000 and above | F35: Active | G35: Operations CRM | H35: 45887 | I35: =YEAR(H35) | J35: Managerial | K35: Country Manager | L35: Somchai | M35: Murphy | N35: - | O35: {=TRIM(LEFT(B35,MIN(IFERROR(FIND(Keywords!$A$1:$A$40,B35),LEN(B35)+1))-1))} | P35: =IF(F35="Active",1,0) | Q35: =IF(F35="Inactive",1,0)
A36: LEAD0003992 | B36: Keystone Enterprises Ltd | C36: Singapore | D36: Banking / Finance / Insurance / Investment | E36: 1,000 and above | F36: Active | G36: Lead provider A | H36: 45783 | I36: =YEAR(H36) | J36: Managerial | K36: Account Manager | L36: Mei | M36: Chen | N36: https://example.com/in/mei-chen-ea05e553 | O36: {=TRIM(LEFT(B36,MIN(IFERROR(FIND(Keywords!$A$1:$A$40,B36),LEN(B36)+1))-1))} | P36: =IF(F36="Active",1,0) | Q36: =IF(F36="Inactive",1,0)
A37: LEAD0004048 | B37: Horizon Holdings Pte Ltd | C37: Australia | D37: Utilities (Gas/Water/Electricity/Oil) | E37: 1,000 and above | F37: Inactive | G37: Operations CRM | H37: - | I37: - | J37: Managerial | K37: Account Manager | L37: Sophia | M37: Wong | N37: - | O37: {=TRIM(LEFT(B37,MIN(IFERROR(FIND(Keywords!$A$1:$A$40,B37),LEN(B37)+1))-1))} | P37: =IF(F37="Active",1,0) | Q37: =IF(F37="Inactive",1,0)
A38: LEAD0004055 | B38: Juniper Technologies Co Ltd | C38: Philippines | D38: Banking / Finance / Insurance / Investment | E38: 1,000 and above | F38: Active | G38: Operations CRM | H38: - | I38: - | J38: C-Level | K38: Account Manager | L38: Ryan | M38: Osman | N38: https://example.com/in/ryan-osman-cb8ce4f2 | O38: {=TRIM(LEFT(B38,MIN(IFERROR(FIND(Keywords!$A$1:$A$40,B38),LEN(B38)+1))-1))} | P38: =IF(F38="Active",1,0) | Q38: =IF(F38="Inactive",1,0)
A39: LEAD0004080 | B39: Maple Systems Corp | C39: Thailand | D39: Banking / Finance / Insurance / Investment | E39: 1,000 and above | F39: Active | G39: Operations CRM | H39: - | I39: - | J39: Managerial | K39: Operations Director | L39: Dewi | M39: Kim | N39: https://example.com/in/dewi-kim-ceeec474 | O39: {=TRIM(LEFT(B39,MIN(IFERROR(FIND(Keywords!$A$1:$A$40,B39),LEN(B39)+1))-1))} | P39: =IF(F39="Active",1,0) | Q39: =IF(F39="Inactive",1,0)
A40: LEAD0004115 | B40: Oakridge Group Ltd | C40: Australia | D40: Non-Profit Organization | E40: 500-999 | F40: Active | G40: Operations CRM | H40: - | I40: - | J40: C-Level | K40: Supply Chain Manager | L40: Ravi | M40: Wong | N40: https://example.com/in/ravi-wong-7f135437 | O40: {=TRIM(LEFT(B40,MIN(IFERROR(FIND(Keywords!$A$1:$A$40,B40),LEN(B40)+1))-1))} | P40: =IF(F40="Active",1,0) | Q40: =IF(F40="Inactive",1,0)
...

Sheet Summary
B2: Lead Database Count by Source and Year
B3: Year | C3: Lead provider A | E3: Lead provider B | G3: Operations CRM | I3: Main CRM | K3: Legacy database export | M3: Purchased lists
C4: Active | D4: Inactive | E4: Active | F4: Inactive | G4: Active | H4: Inactive | I4: Active | J4: Inactive | K4: Active | L4: Inactive | M4: Active | N4: Inactive | O4: Total Active
B5: 2019 | C5: =SUMIFS(Database!$P:$P,Database!$I:$I,Summary!$B5,Database!$G:$G,Summary!C$3) | D5: =SUMIFS(Database!$Q:$Q,Database!$I:$I,Summary!$B5,Database!$G:$G,Summary!C$3) | E5: =SUMIFS(Database!$P:$P,Database!$I:$I,Summary!$B5,Database!$G:$G,Summary!E$3) | F5: =SUMIFS(Database!$Q:$Q,Database!$I:$I,Summary!$B5,Database!$G:$G,Summary!E$3) | G5: =SUMIFS(Database!$P:$P,Database!$I:$I,Summary!$B5,Database!$G:$G,Summary!G$3) | H5: =SUMIFS(Database!$Q:$Q,Database!$I:$I,Summary!$B5,Database!$G:$G,Summary!G$3) | I5: =SUMIFS(Database!$P:$P,Database!$I:$I,Summary!$B5,Database!$G:$G,Summary!I$3) | J5: =SUMIFS(Database!$Q:$Q,Database!$I:$I,Summary!$B5,Database!$G:$G,Summary!I$3) | K5: =SUMIFS(Database!$P:$P,Database!$I:$I,Summary!$B5,Database!$G:$G,Summary!K$3) | L5: =SUMIFS(Database!$Q:$Q,Database!$I:$I,Summary!$B5,Database!$G:$G,Summary!K$3) | M5: =SUMIFS(Database!$P:$P,Database!$I:$I,Summary!$B5,Database!$G:$G,Summary!M$3) | N5: =SUMIFS(Database!$Q:$Q,Database!$I:$I,Summary!$B5,Database!$G:$G,Summary!M$3) | O5: =SUM(C5,E5,G5,I5,K5,M5)
B6: 2020 | C6: =SUMIFS(Database!$P:$P,Database!$I:$I,Summary!$B6,Database!$G:$G,Summary!C$3) | D6: =SUMIFS(Database!$Q:$Q,Database!$I:$I,Summary!$B6,Database!$G:$G,Summary!C$3) | E6: =SUMIFS(Database!$P:$P,Database!$I:$I,Summary!$B6,Database!$G:$G,Summary!E$3) | F6: =SUMIFS(Database!$Q:$Q,Database!$I:$I,Summary!$B6,Database!$G:$G,Summary!E$3) | G6: =SUMIFS(Database!$P:$P,Database!$I:$I,Summary!$B6,Database!$G:$G,Summary!G$3) | H6: =SUMIFS(Database!$Q:$Q,Database!$I:$I,Summary!$B6,Database!$G:$G,Summary!G$3) | I6: =SUMIFS(Database!$P:$P,Database!$I:$I,Summary!$B6,Database!$G:$G,Summary!I$3) | J6: =SUMIFS(Database!$Q:$Q,Database!$I:$I,Summary!$B6,Database!$G:$G,Summary!I$3) | K6: =SUMIFS(Database!$P:$P,Database!$I:$I,Summary!$B6,Database!$G:$G,Summary!K$3) | L6: =SUMIFS(Database!$Q:$Q,Database!$I:$I,Summary!$B6,Database!$G:$G,Summary!K$3) | M6: =SUMIFS(Database!$P:$P,Database!$I:$I,Summary!$B6,Database!$G:$G,Summary!M$3) | N6: =SUMIFS(Database!$Q:$Q,Database!$I:$I,Summary!$B6,Database!$G:$G,Summary!M$3) | O6: =SUM(C6,E6,G6,I6,K6,M6)
B7: 2021 | C7: =SUMIFS(Database!$P:$P,Database!$I:$I,Summary!$B7,Database!$G:$G,Summary!C$3) | D7: =SUMIFS(Database!$Q:$Q,Database!$I:$I,Summary!$B7,Database!$G:$G,Summary!C$3) | E7: =SUMIFS(Database!$P:$P,Database!$I:$I,Summary!$B7,Database!$G:$G,Summary!E$3) | F7: =SUMIFS(Database!$Q:$Q,Database!$I:$I,Summary!$B7,Database!$G:$G,Summary!E$3) | G7: =SUMIFS(Database!$P:$P,Database!$I:$I,Summary!$B7,Database!$G:$G,Summary!G$3) | H7: =SUMIFS(Database!$Q:$Q,Database!$I:$I,Summary!$B7,Database!$G:$G,Summary!G$3) | I7: =SUMIFS(Database!$P:$P,Database!$I:$I,Summary!$B7,Database!$G:$G,Summary!I$3) | J7: =SUMIFS(Database!$Q:$Q,Database!$I:$I,Summary!$B7,Database!$G:$G,Summary!I$3) | K7: =SUMIFS(Database!$P:$P,Database!$I:$I,Summary!$B7,Database!$G:$G,Summary!K$3) | L7: =SUMIFS(Database!$Q:$Q,Database!$I:$I,Summary!$B7,Database!$G:$G,Summary!K$3) | M7: =SUMIFS(Database!$P:$P,Database!$I:$I,Summary!$B7,Database!$G:$G,Summary!M$3) | N7: =SUMIFS(Database!$Q:$Q,Database!$I:$I,Summary!$B7,Database!$G:$G,Summary!M$3) | O7: =SUM(C7,E7,G7,I7,K7,M7)
B8: 2022 | C8: =SUMIFS(Database!$P:$P,Database!$I:$I,Summary!$B8,Database!$G:$G,Summary!C$3) | D8: =SUMIFS(Database!$Q:$Q,Database!$I:$I,Summary!$B8,Database!$G:$G,Summary!C$3) | E8: =SUMIFS(Database!$P:$P,Database!$I:$I,Summary!$B8,Database!$G:$G,Summary!E$3) | F8: =SUMIFS(Database!$Q:$Q,Database!$I:$I,Summary!$B8,Database!$G:$G,Summary!E$3) | G8: =SUMIFS(Database!$P:$P,Database!$I:$I,Summary!$B8,Database!$G:$G,Summary!G$3) | H8: =SUMIFS(Database!$Q:$Q,Database!$I:$I,Summary!$B8,Database!$G:$G,Summary!G$3) | I8: =SUMIFS(Database!$P:$P,Database!$I:$I,Summary!$B8,Database!$G:$G,Summary!I$3) | J8: =SUMIFS(Database!$Q:$Q,Database!$I:$I,Summary!$B8,Database!$G:$G,Summary!I$3) | K8: =SUMIFS(Database!$P:$P,Database!$I:$I,Summary!$B8,Database!$G:$G,Summary!K$3) | L8: =SUMIFS(Database!$Q:$Q,Database!$I:$I,Summary!$B8,Database!$G:$G,Summary!K$3) | M8: =SUMIFS(Database!$P:$P,Database!$I:$I,Summary!$B8,Database!$G:$G,Summary!M$3) | N8: =SUMIFS(Database!$Q:$Q,Database!$I:$I,Summary!$B8,Database!$G:$G,Summary!M$3) | O8: =SUM(C8,E8,G8,I8,K8,M8)
B9: 2023 | C9: =SUMIFS(Database!$P:$P,Database!$I:$I,Summary!$B9,Database!$G:$G,Summary!C$3) | D9: =SUMIFS(Database!$Q:$Q,Database!$I:$I,Summary!$B9,Database!$G:$G,Summary!C$3) | E9: =SUMIFS(Database!$P:$P,Database!$I:$I,Summary!$B9,Database!$G:$G,Summary!E$3) | F9: =SUMIFS(Database!$Q:$Q,Database!$I:$I,Summary!$B9,Database!$G:$G,Summary!E$3) | G9: =SUMIFS(Database!$P:$P,Database!$I:$I,Summary!$B9,Database!$G:$G,Summary!G$3) | H9: =SUMIFS(Database!$Q:$Q,Database!$I:$I,Summary!$B9,Database!$G:$G,Summary!G$3) | I9: =SUMIFS(Database!$P:$P,Database!$I:$I,Summary!$B9,Database!$G:$G,Summary!I$3) | J9: =SUMIFS(Database!$Q:$Q,Database!$I:$I,Summary!$B9,Database!$G:$G,Summary!I$3) | K9: =SUMIFS(Database!$P:$P,Database!$I:$I,Summary!$B9,Database!$G:$G,Summary!K$3) | L9: =SUMIFS(Database!$Q:$Q,Database!$I:$I,Summary!$B9,Database!$G:$G,Summary!K$3) | M9: =SUMIFS(Database!$P:$P,Database!$I:$I,Summary!$B9,Database!$G:$G,Summary!M$3) | N9: =SUMIFS(Database!$Q:$Q,Database!$I:$I,Summary!$B9,Database!$G:$G,Summary!M$3) | O9: =SUM(C9,E9,G9,I9,K9,M9)
B10: 2024 | C10: =SUMIFS(Database!$P:$P,Database!$I:$I,Summary!$B10,Database!$G:$G,Summary!C$3) | D10: =SUMIFS(Database!$Q:$Q,Database!$I:$I,Summary!$B10,Database!$G:$G,Summary!C$3) | E10: =SUMIFS(Database!$P:$P,Database!$I:$I,Summary!$B10,Database!$G:$G,Summary!E$3) | F10: =SUMIFS(Database!$Q:$Q,Database!$I:$I,Summary!$B10,Database!$G:$G,Summary!E$3) | G10: =SUMIFS(Database!$P:$P,Database!$I:$I,Summary!$B10,Database!$G:$G,Summary!G$3) | H10: =SUMIFS(Database!$Q:$Q,Database!$I:$I,Summary!$B10,Database!$G:$G,Summary!G$3) | I10: =SUMIFS(Database!$P:$P,Database!$I:$I,Summary!$B10,Database!$G:$G,Summary!I$3) | J10: =SUMIFS(Database!$Q:$Q,Database!$I:$I,Summary!$B10,Database!$G:$G,Summary!I$3) | K10: =SUMIFS(Database!$P:$P,Database!$I:$I,Summary!$B10,Database!$G:$G,Summary!K$3) | L10: =SUMIFS(Database!$Q:$Q,Database!$I:$I,Summary!$B10,Database!$G:$G,Summary!K$3) | M10: =SUMIFS(Database!$P:$P,Database!$I:$I,Summary!$B10,Database!$G:$G,Summary!M$3) | N10: =SUMIFS(Database!$Q:$Q,Database!$I:$I,Summary!$B10,Database!$G:$G,Summary!M$3) | O10: =SUM(C10,E10,G10,I10,K10,M10)
B11: 2025 | C11: =SUMIFS(Database!$P:$P,Database!$I:$I,Summary!$B11,Database!$G:$G,Summary!C$3) | D11: =SUMIFS(Database!$Q:$Q,Database!$I:$I,Summary!$B11,Database!$G:$G,Summary!C$3) | E11: =SUMIFS(Database!$P:$P,Database!$I:$I,Summary!$B11,Database!$G:$G,Summary!E$3) | F11: =SUMIFS(Database!$Q:$Q,Database!$I:$I,Summary!$B11,Database!$G:$G,Summary!E$3) | G11: =SUMIFS(Database!$P:$P,Database!$I:$I,Summary!$B11,Database!$G:$G,Summary!G$3) | H11: =SUMIFS(Database!$Q:$Q,Database!$I:$I,Summary!$B11,Database!$G:$G,Summary!G$3) | I11: =SUMIFS(Database!$P:$P,Database!$I:$I,Summary!$B11,Database!$G:$G,Summary!I$3) | J11: =SUMIFS(Database!$Q:$Q,Database!$I:$I,Summary!$B11,Database!$G:$G,Summary!I$3) | K11: =SUMIFS(Database!$P:$P,Database!$I:$I,Summary!$B11,Database!$G:$G,Summary!K$3) | L11: =SUMIFS(Database!$Q:$Q,Database!$I:$I,Summary!$B11,Database!$G:$G,Summary!K$3) | M11: =SUMIFS(Database!$P:$P,Database!$I:$I,Summary!$B11,Database!$G:$G,Summary!M$3) | N11: =SUMIFS(Database!$Q:$Q,Database!$I:$I,Summary!$B11,Database!$G:$G,Summary!M$3) | O11: =SUM(C11,E11,G11,I11,K11,M11)
B13: Grand Total | C13: =SUM(C5:C11) | D13: =SUM(D5:D11) | E13: =SUM(E5:E11) | F13: =SUM(F5:F11) | G13: =SUM(G5:G11) | H13: =SUM(H5:H11) | I13: =SUM(I5:I11) | J13: =SUM(J5:J11) | ... O13: =SUM(O5:O11)

Sheet Keywords
A1: Company Suffix Keyword
A2: Pte
A3: PTE
A4: pte
A5: Pty
A6: PTY
A7: Ltd
A8: LTD
A9: ltd
A10: ltd.
A11: limited
A12: LIMITED
... A41: ?

Sheet Task
B2: Task | C2: Frequency | E2: DB Daily Track | F2: July 7 2025 | G2: 45846 | H2: 45847 | I2: 45849
B3: Database Allocation | C3: Daily | E3: Active | F3: 18742 | G3: 18761 | H3: 18729 | I3: 18748
B4: Updating incomplete or inactive contacts (Datamine) | C4: Daily | E4: Inactive | F4: 11806 | G4: 11806 | H4: 11841 | I4: 11835
B5: Updating contacts based on Operations CRM status | C5: Daily
B6: Tracking all contacts/leads using Google Sheets | C6: Daily | E6: DB Daily Track | F6: 45852 | G6: 45853 | H6: 45854 | I6: 45855 | J6: 45856 | K6: Status | L6: Growth
B7: Tracking all contacts/leads through Operations CRM | C7: Daily | E7: Active | F7: 18790 | G7: 18802 | H7: 18811 | I7: 18846 | J7: 18858
B8: Tracking all contacts/leads through Main CRM forms | C8: Daily | E8: Inactive | F8: 11838 | G8: 11844 | H8: 11840 | I8: 11836 | J8: 11829
B9: Assisting TMs in extracting phone numbers/mobile numbers and emails | C9: Daily | E9: Total | K9: -
B10: (Add Lead) Adding TMs' contact leads to Operations CRM | C10: Daily
B11: Preparing campaign DB list for EDM blasting | C11: Occasional | E11: DB Daily Track | F11: 45859 | G11: 45860 | H11: 45861 | I11: 45862 | J11: 45863 | K11: Status | L11: Growth
B12: Creating database campaigns for incoming campaigns | C12: Occasional | E12: Active | F12: 18871 | G12: 18912 | H12: 18930 | I12: 18979 | J12: 18979
